BEGIN:VCALENDAR
VERSION:2.0
PRODID:-//Seminarschule Auerbach - ECPv6.15.20//NONSGML v1.0//EN
CALSCALE:GREGORIAN
METHOD:PUBLISH
X-WR-CALNAME:Seminarschule Auerbach
X-ORIGINAL-URL:https://seminarschule.de
X-WR-CALDESC:Veranstaltungen für Seminarschule Auerbach
REFRESH-INTERVAL;VALUE=DURATION:PT1H
X-Robots-Tag:noindex
X-PUBLISHED-TTL:PT1H
BEGIN:VTIMEZONE
TZID:Europe/Berlin
BEGIN:DAYLIGHT
TZOFFSETFROM:+0100
TZOFFSETTO:+0200
TZNAME:CEST
DTSTART:20250330T010000
END:DAYLIGHT
BEGIN:STANDARD
TZOFFSETFROM:+0200
TZOFFSETTO:+0100
TZNAME:CET
DTSTART:20251026T010000
END:STANDARD
BEGIN:DAYLIGHT
TZOFFSETFROM:+0100
TZOFFSETTO:+0200
TZNAME:CEST
DTSTART:20260329T010000
END:DAYLIGHT
BEGIN:STANDARD
TZOFFSETFROM:+0200
TZOFFSETTO:+0100
TZNAME:CET
DTSTART:20261025T010000
END:STANDARD
BEGIN:DAYLIGHT
TZOFFSETFROM:+0100
TZOFFSETTO:+0200
TZNAME:CEST
DTSTART:20270328T010000
END:DAYLIGHT
BEGIN:STANDARD
TZOFFSETFROM:+0200
TZOFFSETTO:+0100
TZNAME:CET
DTSTART:20271031T010000
END:STANDARD
END:VTIMEZONE
BEGIN:VEVENT
DTSTART;VALUE=DATE:20260428
DTEND;VALUE=DATE:20260429
DTSTAMP:20260420T112327
CREATED:20251212T080337Z
LAST-MODIFIED:20251212T080422Z
UID:241083-1777334400-1777420799@seminarschule.de
SUMMARY:Zoo Leipzig Klassenstufe 5
DESCRIPTION:
URL:https://seminarschule.de/event/zoo-leipzig-klassenstufe-5/
CATEGORIES:Schüler
END:VEVENT
BEGIN:VEVENT
DTSTART;VALUE=DATE:20260429
DTEND;VALUE=DATE:20260430
DTSTAMP:20260420T112327
CREATED:20240801T091747Z
LAST-MODIFIED:20251212T080009Z
UID:239535-1777420800-1777507199@seminarschule.de
SUMMARY:Fertigstellung Jahresnoten Klassen 10
DESCRIPTION:
URL:https://seminarschule.de/event/fertigstellung-jahresnoten-klassen-10/
CATEGORIES:Schüler
END:VEVENT
BEGIN:VEVENT
DTSTART;VALUE=DATE:20260430
DTEND;VALUE=DATE:20260501
DTSTAMP:20260420T112327
CREATED:20251212T080204Z
LAST-MODIFIED:20251212T080237Z
UID:241078-1777507200-1777593599@seminarschule.de
SUMMARY:Bekanntgabe Jahresnoten Klasse 10
DESCRIPTION:
URL:https://seminarschule.de/event/bekanntgabe-jn-klasse-10/
CATEGORIES:Schüler
END:VEVENT
END:VCALENDAR